BEGIN:VCALENDAR
VERSION:2.0
PRODID:-//La Villa des Chefs
CALSCALE:GREGORIAN
METHOD:PUBLISH
X-WR-CALNAME:La Villa des Chefs
X-ORIGINAL-URL:https://www.lavilladeschefs.com/produit/cours-de-cuisine-menu-prestige-48/
X-WR-CALDESC:Cours de cuisine Menu Prestige
BEGIN:VEVENT
DTSTART;TZID=Europe/Paris:20260711T084500
DTEND;TZID=Europe/Paris:20260711T150000
SUMMARY:Cours de cuisine Menu Prestige
DESCRIPTION:
URL:https://www.lavilladeschefs.com/produit/cours-de-cuisine-menu-prestige-48/
LOCATION:
END:VEVENT
END:VCALENDAR
