BEGIN:VCALENDAR
VERSION:2.0
PRODID:-//La Villa des Chefs
CALSCALE:GREGORIAN
METHOD:PUBLISH
X-WR-CALNAME:La Villa des Chefs
X-ORIGINAL-URL:https://www.lavilladeschefs.com/produit/cours-de-cuisine-menu-prestige-avec-le-chef-pierre-mignot-5/
X-WR-CALDESC:Cours de cuisine Menu Prestige avec le Chef Pierre Mignot
BEGIN:VEVENT
DTSTART;TZID=Europe/London:20260126T084500
DTEND;TZID=Europe/London:20260126T150000
SUMMARY:Cours de cuisine Menu Prestige avec le Chef Pierre Mignot
DESCRIPTION:
URL:https://www.lavilladeschefs.com/produit/cours-de-cuisine-menu-prestige-avec-le-chef-pierre-mignot-5/
LOCATION:La Villa des Chefs 1225 Chemin de la Blaque, 13090 Aix en Provence
END:VEVENT
END:VCALENDAR
