BEGIN:VCALENDAR
VERSION:2.0
PRODID:-//La Villa des Chefs
CALSCALE:GREGORIAN
METHOD:PUBLISH
X-WR-CALNAME:La Villa des Chefs
X-ORIGINAL-URL:https://www.lavilladeschefs.com/produit/week-end-gastronomie-et-bien-etre-au-domaine-du-luberon-recolte-de-truffes-et-menu-a-la-truffe/
X-WR-CALDESC:Week-end Gastronomie et bien-être au Domaine du Luberon &#8211; Récolte de Truffes et Menu à la Truffe
BEGIN:VEVENT
DTSTART;TZID=Europe/London:20260131T133000
DTEND;TZID=Europe/London:20260201T150000
SUMMARY:Week-end Gastronomie et bien-être au Domaine du Luberon – Récolte de Truffes et Menu à la Truffe
DESCRIPTION:
URL:https://www.lavilladeschefs.com/produit/week-end-gastronomie-et-bien-etre-au-domaine-du-luberon-recolte-de-truffes-et-menu-a-la-truffe/
LOCATION:Domaine du Luberon, 364 Chemin les Blaques, 84240 Grambois
END:VEVENT
END:VCALENDAR
