BEGIN:VCALENDAR
VERSION:2.0
PRODID:-//La Villa des Chefs
CALSCALE:GREGORIAN
METHOD:PUBLISH
X-WR-CALNAME:La Villa des Chefs
X-ORIGINAL-URL:https://www.lavilladeschefs.com/produit/cours-de-cuisine-menu-du-chef-avec-olivier-gautier-3/
X-WR-CALDESC:Cours de cuisine Menu du Chef avec Olivier Gautier
BEGIN:VEVENT
DTSTART;TZID=Europe/London:20251128T084500
DTEND;TZID=Europe/London:20251128T150000
SUMMARY:Cours de cuisine Menu du Chef avec Olivier Gautier
DESCRIPTION:
URL:https://www.lavilladeschefs.com/produit/cours-de-cuisine-menu-du-chef-avec-olivier-gautier-3/
LOCATION:La Villa des Chefs, Chemin de la Blaque, 13090 Aix-en-Provenve
END:VEVENT
END:VCALENDAR
