BEGIN:VCALENDAR
VERSION:2.0
PRODID:-//La Villa des Chefs
CALSCALE:GREGORIAN
METHOD:PUBLISH
X-WR-CALNAME:La Villa des Chefs
X-ORIGINAL-URL:https://www.lavilladeschefs.com/produit/cours-de-cuisine-menu-thematique-avec-le-chef-oivier-gautier/
X-WR-CALDESC:Cours de cuisine Menu Thématique avec le Chef Olivier Gautier au Domaine du Luberon (35 minutes d&rsquo;Aix en Provence)
BEGIN:VEVENT
DTSTART;TZID=Europe/Paris:20251116T083000
DTEND;TZID=Europe/Paris:20251116T150000
SUMMARY:Cours de cuisine Menu Thématique avec le Chef Olivier Gautier au Domaine du Luberon (35 minutes d’Aix en Provence)
DESCRIPTION:
URL:https://www.lavilladeschefs.com/produit/cours-de-cuisine-menu-thematique-avec-le-chef-oivier-gautier/
LOCATION:Le Domaine du Luberon, 364 Chemin des Blaques, 84240 Grambois
END:VEVENT
END:VCALENDAR
