BEGIN:VCALENDAR
VERSION:2.0
PRODID:-//La Villa des Chefs
CALSCALE:GREGORIAN
METHOD:PUBLISH
X-WR-CALNAME:La Villa des Chefs
X-ORIGINAL-URL:https://www.lavilladeschefs.com/produit/cours-de-cuisine-menu-prestige-avec-le-chef-pierre-mignot/
X-WR-CALDESC:Cours de cuisine Menu Prestige avec le Chef Pierre Mignot
BEGIN:VEVENT
DTSTART;TZID=Europe/Paris:20251115T084500
DTEND;TZID=Europe/Paris:20251115T150000
SUMMARY:Cours de cuisine Menu Prestige avec le Chef Pierre Mignot
DESCRIPTION:
URL:https://www.lavilladeschefs.com/produit/cours-de-cuisine-menu-prestige-avec-le-chef-pierre-mignot/
LOCATION:
END:VEVENT
END:VCALENDAR
